BEGIN:VCALENDAR
VERSION:2.0
PRODID:-//New Evangelization Ministries - ECPv6.15.20//NONSGML v1.0//EN
CALSCALE:GREGORIAN
METHOD:PUBLISH
X-ORIGINAL-URL:https://nem.training
X-WR-CALDESC:Events for New Evangelization Ministries
REFRESH-INTERVAL;VALUE=DURATION:PT1H
X-Robots-Tag:noindex
X-PUBLISHED-TTL:PT1H
BEGIN:VTIMEZONE
TZID:America/Chicago
BEGIN:DAYLIGHT
TZOFFSETFROM:-0600
TZOFFSETTO:-0500
TZNAME:CDT
DTSTART:20250309T080000
END:DAYLIGHT
BEGIN:STANDARD
TZOFFSETFROM:-0500
TZOFFSETTO:-0600
TZNAME:CST
DTSTART:20251102T070000
END:STANDARD
BEGIN:DAYLIGHT
TZOFFSETFROM:-0600
TZOFFSETTO:-0500
TZNAME:CDT
DTSTART:20260308T080000
END:DAYLIGHT
BEGIN:STANDARD
TZOFFSETFROM:-0500
TZOFFSETTO:-0600
TZNAME:CST
DTSTART:20261101T070000
END:STANDARD
BEGIN:DAYLIGHT
TZOFFSETFROM:-0600
TZOFFSETTO:-0500
TZNAME:CDT
DTSTART:20270314T080000
END:DAYLIGHT
BEGIN:STANDARD
TZOFFSETFROM:-0500
TZOFFSETTO:-0600
TZNAME:CST
DTSTART:20271107T070000
END:STANDARD
END:VTIMEZONE
BEGIN:VEVENT
DTSTART;TZID=America/Chicago:20260503T080000
DTEND;TZID=America/Chicago:20260503T170000
DTSTAMP:20260423T133648
CREATED:20250807T211434Z
LAST-MODIFIED:20251124T184155Z
UID:4726-1777795200-1777827600@nem.training
SUMMARY:St. Patrick's Festival\, Hutto\, TX
DESCRIPTION:
URL:https://nem.training/event/st-patricks-festival/
END:VEVENT
BEGIN:VEVENT
DTSTART;TZID=America/Chicago:20260509T080000
DTEND;TZID=America/Chicago:20260509T220000
DTSTAMP:20260423T133648
CREATED:20251124T183410Z
LAST-MODIFIED:20251124T183410Z
UID:4792-1778313600-1778364000@nem.training
SUMMARY:Northern California Renewal Coalition Conference\, San Francisco\, CA
DESCRIPTION:
URL:https://nem.training/event/northern-california-renewal-coalition-conference-san-francisco-ca/
END:VEVENT
BEGIN:VEVENT
DTSTART;TZID=America/Chicago:20260514T150000
DTEND;TZID=America/Chicago:20260517T170000
DTSTAMP:20260423T133648
CREATED:20251124T183638Z
LAST-MODIFIED:20251124T183638Z
UID:4794-1778770800-1779037200@nem.training
SUMMARY:Sacred Heart Prayer Group Retreat\, Three Rivers\, CA
DESCRIPTION:
URL:https://nem.training/event/sacred-heart-prayer-group-retreat-three-rivers-ca/
END:VEVENT
END:VCALENDAR