BEGIN:VCALENDAR
VERSION:2.0
PRODID:-//New Evangelization Ministries - ECPv6.15.20//NONSGML v1.0//EN
CALSCALE:GREGORIAN
METHOD:PUBLISH
X-ORIGINAL-URL:https://nem.training
X-WR-CALDESC:Events for New Evangelization Ministries
REFRESH-INTERVAL;VALUE=DURATION:PT1H
X-Robots-Tag:noindex
X-PUBLISHED-TTL:PT1H
BEGIN:VTIMEZONE
TZID:America/Chicago
BEGIN:DAYLIGHT
TZOFFSETFROM:-0600
TZOFFSETTO:-0500
TZNAME:CDT
DTSTART:20250309T080000
END:DAYLIGHT
BEGIN:STANDARD
TZOFFSETFROM:-0500
TZOFFSETTO:-0600
TZNAME:CST
DTSTART:20251102T070000
END:STANDARD
BEGIN:DAYLIGHT
TZOFFSETFROM:-0600
TZOFFSETTO:-0500
TZNAME:CDT
DTSTART:20260308T080000
END:DAYLIGHT
BEGIN:STANDARD
TZOFFSETFROM:-0500
TZOFFSETTO:-0600
TZNAME:CST
DTSTART:20261101T070000
END:STANDARD
BEGIN:DAYLIGHT
TZOFFSETFROM:-0600
TZOFFSETTO:-0500
TZNAME:CDT
DTSTART:20270314T080000
END:DAYLIGHT
BEGIN:STANDARD
TZOFFSETFROM:-0500
TZOFFSETTO:-0600
TZNAME:CST
DTSTART:20271107T070000
END:STANDARD
END:VTIMEZONE
BEGIN:VEVENT
DTSTART;TZID=America/Chicago:20260228T080000
DTEND;TZID=America/Chicago:20260304T210000
DTSTAMP:20260423T113716
CREATED:20250401T232243Z
LAST-MODIFIED:20250401T232243Z
UID:4666-1772265600-1772658000@nem.training
SUMMARY:Corpus Christi Area Parish Mission\, Glencoe\, MN
DESCRIPTION:
URL:https://nem.training/event/corpus-christi-area-parish-mission-glencoe-mn/
END:VEVENT
BEGIN:VEVENT
DTSTART;TZID=America/Chicago:20260306T080000
DTEND;TZID=America/Chicago:20260307T220000
DTSTAMP:20260423T113716
CREATED:20240821T191043Z
LAST-MODIFIED:20240821T191043Z
UID:4526-1772784000-1772920800@nem.training
SUMMARY:Catholic Center for Charismatic Renewal Conference\, San Antonio\, TX
DESCRIPTION:
URL:https://nem.training/event/catholic-center-for-charismatic-renewal-conference-san-antonio-tx/
END:VEVENT
BEGIN:VEVENT
DTSTART;TZID=America/Chicago:20260314T080000
DTEND;TZID=America/Chicago:20260317T220000
DTSTAMP:20260423T113716
CREATED:20260214T003405Z
LAST-MODIFIED:20260214T003405Z
UID:4823-1773475200-1773784800@nem.training
SUMMARY:St. Thomas Aquinas Parish Mission\, Madison\, WI
DESCRIPTION:
URL:https://nem.training/event/st-thomas-aquinas-parish-mission-madison-wi/
END:VEVENT
BEGIN:VEVENT
DTSTART;TZID=America/Chicago:20260320T080000
DTEND;TZID=America/Chicago:20260322T170000
DTSTAMP:20260423T113716
CREATED:20250807T211655Z
LAST-MODIFIED:20250807T211655Z
UID:4731-1773993600-1774198800@nem.training
SUMMARY:Closed
DESCRIPTION:
URL:https://nem.training/event/closed-5/
END:VEVENT
BEGIN:VEVENT
DTSTART;TZID=America/Chicago:20260328T080000
DTEND;TZID=America/Chicago:20260328T170000
DTSTAMP:20260423T113716
CREATED:20260226T205632Z
LAST-MODIFIED:20260226T205632Z
UID:4830-1774684800-1774717200@nem.training
SUMMARY:Parent Retreat\, St. Ann Parish\, Sonora\, TX
DESCRIPTION:
URL:https://nem.training/event/parent-retreat-st-ann-parish-sonora-tx/
END:VEVENT
BEGIN:VEVENT
DTSTART;VALUE=DATE:20260329
DTEND;VALUE=DATE:20260330
DTSTAMP:20260423T113716
CREATED:20250807T214235Z
LAST-MODIFIED:20250807T214235Z
UID:4752-1774742400-1774828799@nem.training
SUMMARY:Palm Sunday
DESCRIPTION:
URL:https://nem.training/event/palm-sunday/
END:VEVENT
BEGIN:VEVENT
DTSTART;VALUE=DATE:20260330
DTEND;VALUE=DATE:20260405
DTSTAMP:20260423T113716
CREATED:20250807T214413Z
LAST-MODIFIED:20250807T214413Z
UID:4754-1774828800-1775347199@nem.training
SUMMARY:Holy Week
DESCRIPTION:
URL:https://nem.training/event/holy-week/
END:VEVENT
END:VCALENDAR