BEGIN:VCALENDAR
VERSION:2.0
PRODID:-//New Evangelization Ministries - ECPv6.15.20//NONSGML v1.0//EN
CALSCALE:GREGORIAN
METHOD:PUBLISH
X-WR-CALNAME:New Evangelization Ministries
X-ORIGINAL-URL:https://nem.training
X-WR-CALDESC:Events for New Evangelization Ministries
REFRESH-INTERVAL;VALUE=DURATION:PT1H
X-Robots-Tag:noindex
X-PUBLISHED-TTL:PT1H
BEGIN:VTIMEZONE
TZID:America/Chicago
BEGIN:DAYLIGHT
TZOFFSETFROM:-0600
TZOFFSETTO:-0500
TZNAME:CDT
DTSTART:20250309T080000
END:DAYLIGHT
BEGIN:STANDARD
TZOFFSETFROM:-0500
TZOFFSETTO:-0600
TZNAME:CST
DTSTART:20251102T070000
END:STANDARD
BEGIN:DAYLIGHT
TZOFFSETFROM:-0600
TZOFFSETTO:-0500
TZNAME:CDT
DTSTART:20260308T080000
END:DAYLIGHT
BEGIN:STANDARD
TZOFFSETFROM:-0500
TZOFFSETTO:-0600
TZNAME:CST
DTSTART:20261101T070000
END:STANDARD
BEGIN:DAYLIGHT
TZOFFSETFROM:-0600
TZOFFSETTO:-0500
TZNAME:CDT
DTSTART:20270314T080000
END:DAYLIGHT
BEGIN:STANDARD
TZOFFSETFROM:-0500
TZOFFSETTO:-0600
TZNAME:CST
DTSTART:20271107T070000
END:STANDARD
END:VTIMEZONE
BEGIN:VEVENT
DTSTART;TZID=America/Chicago:20260131T080000
DTEND;TZID=America/Chicago:20260203T210000
DTSTAMP:20260423T133408
CREATED:20250807T212659Z
LAST-MODIFIED:20250807T212659Z
UID:4737-1769846400-1770152400@nem.training
SUMMARY:St. Joseph the Worker Parish Mission\, Mount Pleasant\, MI
DESCRIPTION:
URL:https://nem.training/event/st-joseph-the-worker-parish-mission-mount-pleasant-mi/
END:VEVENT
BEGIN:VEVENT
DTSTART;VALUE=DATE:20260206
DTEND;VALUE=DATE:20260209
DTSTAMP:20260423T133408
CREATED:20250807T214023Z
LAST-MODIFIED:20250807T214023Z
UID:4750-1770336000-1770595199@nem.training
SUMMARY:Closed
DESCRIPTION:
URL:https://nem.training/event/closed-7/
END:VEVENT
BEGIN:VEVENT
DTSTART;TZID=America/Chicago:20260214T080000
DTEND;TZID=America/Chicago:20260217T210000
DTSTAMP:20260423T133408
CREATED:20250415T135252Z
LAST-MODIFIED:20250430T202653Z
UID:4673-1771056000-1771362000@nem.training
SUMMARY:St. Mary and St. Joseph Parish Mission\, Durand\, MI
DESCRIPTION:
URL:https://nem.training/event/st-mary-and-st-joseph-parish-mission-durand-mi-2/
END:VEVENT
BEGIN:VEVENT
DTSTART;TZID=America/Chicago:20260221T080000
DTEND;TZID=America/Chicago:20260225T170000
DTSTAMP:20260423T133408
CREATED:20250807T212928Z
LAST-MODIFIED:20250807T212928Z
UID:4741-1771660800-1772038800@nem.training
SUMMARY:Our Lady of Victory Parish Mission\, Hartford\, SD
DESCRIPTION:
URL:https://nem.training/event/our-lady-of-victory-parish-mission-hartford-sd/
END:VEVENT
BEGIN:VEVENT
DTSTART;TZID=America/Chicago:20260228T080000
DTEND;TZID=America/Chicago:20260304T210000
DTSTAMP:20260423T133408
CREATED:20250401T232243Z
LAST-MODIFIED:20250401T232243Z
UID:4666-1772265600-1772658000@nem.training
SUMMARY:Corpus Christi Area Parish Mission\, Glencoe\, MN
DESCRIPTION:
URL:https://nem.training/event/corpus-christi-area-parish-mission-glencoe-mn/
END:VEVENT
END:VCALENDAR