BEGIN:VCALENDAR
VERSION:2.0
PRODID:-//New Evangelization Ministries - ECPv6.15.20//NONSGML v1.0//EN
CALSCALE:GREGORIAN
METHOD:PUBLISH
X-WR-CALNAME:New Evangelization Ministries
X-ORIGINAL-URL:https://nem.training
X-WR-CALDESC:Events for New Evangelization Ministries
REFRESH-INTERVAL;VALUE=DURATION:PT1H
X-Robots-Tag:noindex
X-PUBLISHED-TTL:PT1H
BEGIN:VTIMEZONE
TZID:America/Chicago
BEGIN:DAYLIGHT
TZOFFSETFROM:-0600
TZOFFSETTO:-0500
TZNAME:CDT
DTSTART:20250309T080000
END:DAYLIGHT
BEGIN:STANDARD
TZOFFSETFROM:-0500
TZOFFSETTO:-0600
TZNAME:CST
DTSTART:20251102T070000
END:STANDARD
BEGIN:DAYLIGHT
TZOFFSETFROM:-0600
TZOFFSETTO:-0500
TZNAME:CDT
DTSTART:20260308T080000
END:DAYLIGHT
BEGIN:STANDARD
TZOFFSETFROM:-0500
TZOFFSETTO:-0600
TZNAME:CST
DTSTART:20261101T070000
END:STANDARD
BEGIN:DAYLIGHT
TZOFFSETFROM:-0600
TZOFFSETTO:-0500
TZNAME:CDT
DTSTART:20270314T080000
END:DAYLIGHT
BEGIN:STANDARD
TZOFFSETFROM:-0500
TZOFFSETTO:-0600
TZNAME:CST
DTSTART:20271107T070000
END:STANDARD
END:VTIMEZONE
BEGIN:VEVENT
DTSTART;VALUE=DATE:20260103
DTEND;VALUE=DATE:20260106
DTSTAMP:20260423T153257
CREATED:20250807T202342Z
LAST-MODIFIED:20250807T202830Z
UID:4713-1767398400-1767657599@nem.training
SUMMARY:Personal Family Retreat
DESCRIPTION:
URL:https://nem.training/event/closed-4/
END:VEVENT
BEGIN:VEVENT
DTSTART;TZID=America/Chicago:20260103T080000
DTEND;TZID=America/Chicago:20260103T170000
DTSTAMP:20260423T153257
CREATED:20251124T183137Z
LAST-MODIFIED:20251124T183137Z
UID:4790-1767427200-1767459600@nem.training
SUMMARY:La Grange\, Brenham\, Bryan Deaneries Catechist Retreat
DESCRIPTION:
URL:https://nem.training/event/la-grange-brenham-bryan-deaneries-catechist-retreat/
END:VEVENT
BEGIN:VEVENT
DTSTART;VALUE=DATE:20260110
DTEND;VALUE=DATE:20260111
DTSTAMP:20260423T153257
CREATED:20250807T203050Z
LAST-MODIFIED:20250807T203050Z
UID:4717-1768003200-1768089599@nem.training
SUMMARY:St. Patrick Parent Teen Retreat\, Hutto\, TX
DESCRIPTION:
URL:https://nem.training/event/st-patrick-parent-teen-retreat-hutto-tx/
END:VEVENT
BEGIN:VEVENT
DTSTART;TZID=America/Chicago:20260124T080000
DTEND;TZID=America/Chicago:20260129T170000
DTSTAMP:20260423T153257
CREATED:20250203T152858Z
LAST-MODIFIED:20250203T152858Z
UID:4610-1769241600-1769706000@nem.training
SUMMARY:Experience Ongoing Conversion Cruise\, Western Caribbean
DESCRIPTION:
URL:https://nem.training/event/experience-ongoing-conversion-cruise-western-caribbean/
END:VEVENT
BEGIN:VEVENT
DTSTART;TZID=America/Chicago:20260131T080000
DTEND;TZID=America/Chicago:20260203T210000
DTSTAMP:20260423T153257
CREATED:20250807T212659Z
LAST-MODIFIED:20250807T212659Z
UID:4737-1769846400-1770152400@nem.training
SUMMARY:St. Joseph the Worker Parish Mission\, Mount Pleasant\, MI
DESCRIPTION:
URL:https://nem.training/event/st-joseph-the-worker-parish-mission-mount-pleasant-mi/
END:VEVENT
END:VCALENDAR