BEGIN:VCALENDAR
VERSION:2.0
PRODID:-//New Evangelization Ministries - ECPv6.15.20//NONSGML v1.0//EN
CALSCALE:GREGORIAN
METHOD:PUBLISH
X-ORIGINAL-URL:https://nem.training
X-WR-CALDESC:Events for New Evangelization Ministries
REFRESH-INTERVAL;VALUE=DURATION:PT1H
X-Robots-Tag:noindex
X-PUBLISHED-TTL:PT1H
BEGIN:VTIMEZONE
TZID:America/Chicago
BEGIN:DAYLIGHT
TZOFFSETFROM:-0600
TZOFFSETTO:-0500
TZNAME:CDT
DTSTART:20240310T080000
END:DAYLIGHT
BEGIN:STANDARD
TZOFFSETFROM:-0500
TZOFFSETTO:-0600
TZNAME:CST
DTSTART:20241103T070000
END:STANDARD
BEGIN:DAYLIGHT
TZOFFSETFROM:-0600
TZOFFSETTO:-0500
TZNAME:CDT
DTSTART:20250309T080000
END:DAYLIGHT
BEGIN:STANDARD
TZOFFSETFROM:-0500
TZOFFSETTO:-0600
TZNAME:CST
DTSTART:20251102T070000
END:STANDARD
BEGIN:DAYLIGHT
TZOFFSETFROM:-0600
TZOFFSETTO:-0500
TZNAME:CDT
DTSTART:20260308T080000
END:DAYLIGHT
BEGIN:STANDARD
TZOFFSETFROM:-0500
TZOFFSETTO:-0600
TZNAME:CST
DTSTART:20261101T070000
END:STANDARD
END:VTIMEZONE
BEGIN:VEVENT
DTSTART;VALUE=DATE:20250905
DTEND;VALUE=DATE:20250907
DTSTAMP:20260423T225906
CREATED:20250707T224645Z
LAST-MODIFIED:20250707T224645Z
UID:4699-1757030400-1757203199@nem.training
SUMMARY:St. Jerome Catholic Church\, Waco\, All Ministry Retreat
DESCRIPTION:
URL:https://nem.training/event/st-jerome-catholic-church-waco-all-ministry-retreat/
END:VEVENT
BEGIN:VEVENT
DTSTART;VALUE=DATE:20250913
DTEND;VALUE=DATE:20250914
DTSTAMP:20260423T225906
CREATED:20250612T202434Z
LAST-MODIFIED:20250612T202639Z
UID:4689-1757721600-1757807999@nem.training
SUMMARY:Archdiocese of Boston Charismatic Conference
DESCRIPTION:
URL:https://nem.training/event/archdiocese-of-oklahoma-deacons-retreat/
END:VEVENT
BEGIN:VEVENT
DTSTART;TZID=America/Chicago:20250919T130000
DTEND;TZID=America/Chicago:20250921T130000
DTSTAMP:20260423T225906
CREATED:20230714T012311Z
LAST-MODIFIED:20230714T012311Z
UID:4380-1758286800-1758459600@nem.training
SUMMARY:Deacons and Wives of the Archdiocese of Oklahoma City Retreat
DESCRIPTION:
URL:https://nem.training/event/deacons-and-wives-of-the-archdiocese-of-oklahoma-city-retreat/
END:VEVENT
BEGIN:VEVENT
DTSTART;TZID=America/Chicago:20250926T080000
DTEND;TZID=America/Chicago:20250927T193000
DTSTAMP:20260423T225906
CREATED:20250203T151809Z
LAST-MODIFIED:20250203T151809Z
UID:4608-1758873600-1759001400@nem.training
SUMMARY:Evangelizing in Hope Conference\, Saint Louis\, MO
DESCRIPTION:
URL:https://nem.training/event/evangelizing-in-hope-conference-saint-louis-mo/
END:VEVENT
END:VCALENDAR