BEGIN:VCALENDAR
VERSION:2.0
PRODID:-//New Evangelization Ministries - ECPv6.15.20//NONSGML v1.0//EN
CALSCALE:GREGORIAN
METHOD:PUBLISH
X-ORIGINAL-URL:https://nem.training
X-WR-CALDESC:Events for New Evangelization Ministries
REFRESH-INTERVAL;VALUE=DURATION:PT1H
X-Robots-Tag:noindex
X-PUBLISHED-TTL:PT1H
BEGIN:VTIMEZONE
TZID:America/Chicago
BEGIN:DAYLIGHT
TZOFFSETFROM:-0600
TZOFFSETTO:-0500
TZNAME:CDT
DTSTART:20240310T080000
END:DAYLIGHT
BEGIN:STANDARD
TZOFFSETFROM:-0500
TZOFFSETTO:-0600
TZNAME:CST
DTSTART:20241103T070000
END:STANDARD
BEGIN:DAYLIGHT
TZOFFSETFROM:-0600
TZOFFSETTO:-0500
TZNAME:CDT
DTSTART:20250309T080000
END:DAYLIGHT
BEGIN:STANDARD
TZOFFSETFROM:-0500
TZOFFSETTO:-0600
TZNAME:CST
DTSTART:20251102T070000
END:STANDARD
BEGIN:DAYLIGHT
TZOFFSETFROM:-0600
TZOFFSETTO:-0500
TZNAME:CDT
DTSTART:20260308T080000
END:DAYLIGHT
BEGIN:STANDARD
TZOFFSETFROM:-0500
TZOFFSETTO:-0600
TZNAME:CST
DTSTART:20261101T070000
END:STANDARD
END:VTIMEZONE
BEGIN:VEVENT
DTSTART;VALUE=DATE:20250801
DTEND;VALUE=DATE:20250805
DTSTAMP:20260424T003951
CREATED:20250401T215707Z
LAST-MODIFIED:20250401T215707Z
UID:4648-1754006400-1754351999@nem.training
SUMMARY:Weekend Closed
DESCRIPTION:
URL:https://nem.training/event/weekend-closed-21/
END:VEVENT
BEGIN:VEVENT
DTSTART;VALUE=DATE:20250809
DTEND;VALUE=DATE:20250811
DTSTAMP:20260424T003951
CREATED:20250401T215900Z
LAST-MODIFIED:20250401T215900Z
UID:4651-1754697600-1754870399@nem.training
SUMMARY:Smyth Baptism\, Houston
DESCRIPTION:
URL:https://nem.training/event/smyth-baptism-houston/
END:VEVENT
BEGIN:VEVENT
DTSTART;TZID=America/Chicago:20250812T080000
DTEND;TZID=America/Chicago:20250813T180000
DTSTAMP:20260424T003951
CREATED:20241126T230710Z
LAST-MODIFIED:20241126T230710Z
UID:4581-1754985600-1755108000@nem.training
SUMMARY:Diocese of Grand Rapids Retreat\, MI
DESCRIPTION:
URL:https://nem.training/event/diocese-of-grand-rapids-retreat-mi/
END:VEVENT
BEGIN:VEVENT
DTSTART;VALUE=DATE:20250815
DTEND;VALUE=DATE:20250817
DTSTAMP:20260424T003951
CREATED:20250707T224354Z
LAST-MODIFIED:20250707T224354Z
UID:4697-1755216000-1755388799@nem.training
SUMMARY:Closed for Personal Training
DESCRIPTION:
URL:https://nem.training/event/closed-for-personal-training/
END:VEVENT
BEGIN:VEVENT
DTSTART;VALUE=DATE:20250822
DTEND;VALUE=DATE:20250825
DTSTAMP:20260424T003951
CREATED:20250401T220114Z
LAST-MODIFIED:20250401T220114Z
UID:4654-1755820800-1756079999@nem.training
SUMMARY:Gonzales/Montell Wedding\, Miami\, FL
DESCRIPTION:
URL:https://nem.training/event/gonzales-montell-wedding-miami-fl/
END:VEVENT
END:VCALENDAR