BEGIN:VCALENDAR
VERSION:2.0
PRODID:-//New Evangelization Ministries - ECPv6.15.20//NONSGML v1.0//EN
CALSCALE:GREGORIAN
METHOD:PUBLISH
X-ORIGINAL-URL:https://nem.training
X-WR-CALDESC:Events for New Evangelization Ministries
REFRESH-INTERVAL;VALUE=DURATION:PT1H
X-Robots-Tag:noindex
X-PUBLISHED-TTL:PT1H
BEGIN:VTIMEZONE
TZID:America/Chicago
BEGIN:DAYLIGHT
TZOFFSETFROM:-0600
TZOFFSETTO:-0500
TZNAME:CDT
DTSTART:20240310T080000
END:DAYLIGHT
BEGIN:STANDARD
TZOFFSETFROM:-0500
TZOFFSETTO:-0600
TZNAME:CST
DTSTART:20241103T070000
END:STANDARD
BEGIN:DAYLIGHT
TZOFFSETFROM:-0600
TZOFFSETTO:-0500
TZNAME:CDT
DTSTART:20250309T080000
END:DAYLIGHT
BEGIN:STANDARD
TZOFFSETFROM:-0500
TZOFFSETTO:-0600
TZNAME:CST
DTSTART:20251102T070000
END:STANDARD
BEGIN:DAYLIGHT
TZOFFSETFROM:-0600
TZOFFSETTO:-0500
TZNAME:CDT
DTSTART:20260308T080000
END:DAYLIGHT
BEGIN:STANDARD
TZOFFSETFROM:-0500
TZOFFSETTO:-0600
TZNAME:CST
DTSTART:20261101T070000
END:STANDARD
END:VTIMEZONE
BEGIN:VEVENT
DTSTART;TZID=America/Chicago:20250503T080000
DTEND;TZID=America/Chicago:20250507T210000
DTSTAMP:20260424T060259
CREATED:20250107T200602Z
LAST-MODIFIED:20250107T200602Z
UID:4593-1746259200-1746651600@nem.training
SUMMARY:Immaculate Conception Parish Mission\, Cottonwood\, AZ
DESCRIPTION:
URL:https://nem.training/event/immaculate-conception-parish-mission-cottonwood-az/
END:VEVENT
BEGIN:VEVENT
DTSTART;TZID=America/Chicago:20250510T080000
DTEND;TZID=America/Chicago:20250510T210000
DTSTAMP:20260424T060259
CREATED:20241008T155435Z
LAST-MODIFIED:20241008T155435Z
UID:4539-1746864000-1746910800@nem.training
SUMMARY:Marriage Retreat\, Burnet\, TX
DESCRIPTION:
URL:https://nem.training/event/marriage-retreat-burnet-tx/
END:VEVENT
BEGIN:VEVENT
DTSTART;TZID=America/Chicago:20250516T080000
DTEND;TZID=America/Chicago:20250518T190000
DTSTAMP:20260424T060259
CREATED:20241216T160903Z
LAST-MODIFIED:20241216T160903Z
UID:4589-1747382400-1747594800@nem.training
SUMMARY:Life in the Spirit Seminar\, St. Helen Charismatic Group\, Vero Beach\, FL
DESCRIPTION:
URL:https://nem.training/event/life-in-the-spirit-seminar-st-helen-charismatic-group-vero-beach-fl/
END:VEVENT
END:VCALENDAR