BEGIN:VCALENDAR
VERSION:2.0
PRODID:-//New Evangelization Ministries - ECPv6.15.20//NONSGML v1.0//EN
CALSCALE:GREGORIAN
METHOD:PUBLISH
X-ORIGINAL-URL:https://nem.training
X-WR-CALDESC:Events for New Evangelization Ministries
REFRESH-INTERVAL;VALUE=DURATION:PT1H
X-Robots-Tag:noindex
X-PUBLISHED-TTL:PT1H
BEGIN:VTIMEZONE
TZID:America/Chicago
BEGIN:DAYLIGHT
TZOFFSETFROM:-0600
TZOFFSETTO:-0500
TZNAME:CDT
DTSTART:20240310T080000
END:DAYLIGHT
BEGIN:STANDARD
TZOFFSETFROM:-0500
TZOFFSETTO:-0600
TZNAME:CST
DTSTART:20241103T070000
END:STANDARD
BEGIN:DAYLIGHT
TZOFFSETFROM:-0600
TZOFFSETTO:-0500
TZNAME:CDT
DTSTART:20250309T080000
END:DAYLIGHT
BEGIN:STANDARD
TZOFFSETFROM:-0500
TZOFFSETTO:-0600
TZNAME:CST
DTSTART:20251102T070000
END:STANDARD
BEGIN:DAYLIGHT
TZOFFSETFROM:-0600
TZOFFSETTO:-0500
TZNAME:CDT
DTSTART:20260308T080000
END:DAYLIGHT
BEGIN:STANDARD
TZOFFSETFROM:-0500
TZOFFSETTO:-0600
TZNAME:CST
DTSTART:20261101T070000
END:STANDARD
END:VTIMEZONE
BEGIN:VEVENT
DTSTART;TZID=America/Chicago:20250329T080000
DTEND;TZID=America/Chicago:20250402T210000
DTSTAMP:20260424T075207
CREATED:20231216T233535Z
LAST-MODIFIED:20241017T162738Z
UID:4418-1743235200-1743627600@nem.training
SUMMARY:St. George & St. Michael Parish Mission\, Hartford\, SD
DESCRIPTION:
URL:https://nem.training/event/st-george-st-michael-parish-mission-hartford-sd/
END:VEVENT
BEGIN:VEVENT
DTSTART;TZID=America/Chicago:20250401T090000
DTEND;TZID=America/Chicago:20250401T150000
DTSTAMP:20260424T075207
CREATED:20250401T220443Z
LAST-MODIFIED:20250401T220443Z
UID:4657-1743498000-1743519600@nem.training
SUMMARY:Deacon Convocation - Diocese of Austin
DESCRIPTION:
URL:https://nem.training/event/deacon-convocation-diocese-of-austin/
END:VEVENT
BEGIN:VEVENT
DTSTART;TZID=America/Chicago:20250405T080000
DTEND;TZID=America/Chicago:20250408T210000
DTSTAMP:20260424T075207
CREATED:20240710T230825Z
LAST-MODIFIED:20240710T230825Z
UID:4513-1743840000-1744146000@nem.training
SUMMARY:St. Gerald Parish Mission\, Omaha\, Nebraska
DESCRIPTION:
URL:https://nem.training/event/st-gerald-parish-mission-omaha-nebraska/
END:VEVENT
BEGIN:VEVENT
DTSTART;VALUE=DATE:20250420
DTEND;VALUE=DATE:20250421
DTSTAMP:20260424T075207
CREATED:20250401T213752Z
LAST-MODIFIED:20250401T213752Z
UID:4637-1745107200-1745193599@nem.training
SUMMARY:Easter Sunday
DESCRIPTION:
URL:https://nem.training/event/easter-sunday/
END:VEVENT
END:VCALENDAR