BEGIN:VCALENDAR
VERSION:2.0
PRODID:-//New Evangelization Ministries - ECPv6.15.20//NONSGML v1.0//EN
CALSCALE:GREGORIAN
METHOD:PUBLISH
X-WR-CALNAME:New Evangelization Ministries
X-ORIGINAL-URL:https://nem.training
X-WR-CALDESC:Events for New Evangelization Ministries
REFRESH-INTERVAL;VALUE=DURATION:PT1H
X-Robots-Tag:noindex
X-PUBLISHED-TTL:PT1H
BEGIN:VTIMEZONE
TZID:America/Chicago
BEGIN:DAYLIGHT
TZOFFSETFROM:-0600
TZOFFSETTO:-0500
TZNAME:CDT
DTSTART:20240310T080000
END:DAYLIGHT
BEGIN:STANDARD
TZOFFSETFROM:-0500
TZOFFSETTO:-0600
TZNAME:CST
DTSTART:20241103T070000
END:STANDARD
BEGIN:DAYLIGHT
TZOFFSETFROM:-0600
TZOFFSETTO:-0500
TZNAME:CDT
DTSTART:20250309T080000
END:DAYLIGHT
BEGIN:STANDARD
TZOFFSETFROM:-0500
TZOFFSETTO:-0600
TZNAME:CST
DTSTART:20251102T070000
END:STANDARD
BEGIN:DAYLIGHT
TZOFFSETFROM:-0600
TZOFFSETTO:-0500
TZNAME:CDT
DTSTART:20260308T080000
END:DAYLIGHT
BEGIN:STANDARD
TZOFFSETFROM:-0500
TZOFFSETTO:-0600
TZNAME:CST
DTSTART:20261101T070000
END:STANDARD
END:VTIMEZONE
BEGIN:VEVENT
DTSTART;TZID=America/Chicago:20250301T150000
DTEND;TZID=America/Chicago:20250304T210000
DTSTAMP:20260424T094616
CREATED:20240710T231021Z
LAST-MODIFIED:20240710T231021Z
UID:4515-1740841200-1741122000@nem.training
SUMMARY:Holy Family Catholic Community Parish Mission\, Fond du Lac\, WI
DESCRIPTION:
URL:https://nem.training/event/holy-family-catholic-community-parish-mission-fond-du-lac-wi/
END:VEVENT
BEGIN:VEVENT
DTSTART;TZID=America/Chicago:20250308T080000
DTEND;TZID=America/Chicago:20250312T210000
DTSTAMP:20260424T094616
CREATED:20240516T003134Z
LAST-MODIFIED:20240516T003134Z
UID:4497-1741420800-1741813200@nem.training
SUMMARY:St. Mary of the Assumption Parish Mission\, Taylor\, TX
DESCRIPTION:
URL:https://nem.training/event/st-mary-of-the-assumption-parish-mission-taylor-tx/
END:VEVENT
BEGIN:VEVENT
DTSTART;TZID=America/Chicago:20250314T080000
DTEND;TZID=America/Chicago:20250316T170000
DTSTAMP:20260424T094616
CREATED:20241031T180322Z
LAST-MODIFIED:20241031T180322Z
UID:4558-1741939200-1742144400@nem.training
SUMMARY:Pentecost Today USA Meeting
DESCRIPTION:
URL:https://nem.training/event/pentecost-today-usa-meeting/
END:VEVENT
BEGIN:VEVENT
DTSTART;TZID=America/Chicago:20250321T080000
DTEND;TZID=America/Chicago:20250323T170000
DTSTAMP:20260424T094616
CREATED:20241031T180354Z
LAST-MODIFIED:20241031T180354Z
UID:4560-1742544000-1742749200@nem.training
SUMMARY:Weekend Closed
DESCRIPTION:
URL:https://nem.training/event/weekend-closed-19/
END:VEVENT
BEGIN:VEVENT
DTSTART;TZID=America/Chicago:20250329T080000
DTEND;TZID=America/Chicago:20250402T210000
DTSTAMP:20260424T094616
CREATED:20231216T233535Z
LAST-MODIFIED:20241017T162738Z
UID:4418-1743235200-1743627600@nem.training
SUMMARY:St. George & St. Michael Parish Mission\, Hartford\, SD
DESCRIPTION:
URL:https://nem.training/event/st-george-st-michael-parish-mission-hartford-sd/
END:VEVENT
END:VCALENDAR