BEGIN:VCALENDAR
VERSION:2.0
PRODID:-//New Evangelization Ministries - ECPv6.15.20//NONSGML v1.0//EN
CALSCALE:GREGORIAN
METHOD:PUBLISH
X-WR-CALNAME:New Evangelization Ministries
X-ORIGINAL-URL:https://nem.training
X-WR-CALDESC:Events for New Evangelization Ministries
REFRESH-INTERVAL;VALUE=DURATION:PT1H
X-Robots-Tag:noindex
X-PUBLISHED-TTL:PT1H
BEGIN:VTIMEZONE
TZID:America/Chicago
BEGIN:DAYLIGHT
TZOFFSETFROM:-0600
TZOFFSETTO:-0500
TZNAME:CDT
DTSTART:20230312T080000
END:DAYLIGHT
BEGIN:STANDARD
TZOFFSETFROM:-0500
TZOFFSETTO:-0600
TZNAME:CST
DTSTART:20231105T070000
END:STANDARD
BEGIN:DAYLIGHT
TZOFFSETFROM:-0600
TZOFFSETTO:-0500
TZNAME:CDT
DTSTART:20240310T080000
END:DAYLIGHT
BEGIN:STANDARD
TZOFFSETFROM:-0500
TZOFFSETTO:-0600
TZNAME:CST
DTSTART:20241103T070000
END:STANDARD
BEGIN:DAYLIGHT
TZOFFSETFROM:-0600
TZOFFSETTO:-0500
TZNAME:CDT
DTSTART:20250309T080000
END:DAYLIGHT
BEGIN:STANDARD
TZOFFSETFROM:-0500
TZOFFSETTO:-0600
TZNAME:CST
DTSTART:20251102T070000
END:STANDARD
END:VTIMEZONE
BEGIN:VEVENT
DTSTART;VALUE=DATE:20240830
DTEND;VALUE=DATE:20240902
DTSTAMP:20260424T202743
CREATED:20240425T224653Z
LAST-MODIFIED:20240425T224653Z
UID:4477-1724976000-1725235199@nem.training
SUMMARY:Weekend Closed
DESCRIPTION:
URL:https://nem.training/event/weekend-closed-17/
END:VEVENT
BEGIN:VEVENT
DTSTART;TZID=America/Chicago:20240906T170000
DTEND;TZID=America/Chicago:20240907T190000
DTSTAMP:20260424T202743
CREATED:20240126T200733Z
LAST-MODIFIED:20240126T200733Z
UID:4423-1725642000-1725735600@nem.training
SUMMARY:Charismatic Renewal\, Diocese of Raleigh\, NC
DESCRIPTION:
URL:https://nem.training/event/charismatic-renewal-diocese-of-raleigh-nc/
END:VEVENT
BEGIN:VEVENT
DTSTART;TZID=America/Chicago:20240913T120000
DTEND;TZID=America/Chicago:20240914T180000
DTSTAMP:20260424T202743
CREATED:20240207T001232Z
LAST-MODIFIED:20240207T001232Z
UID:4430-1726228800-1726336800@nem.training
SUMMARY:St. Patrick Catholic Church Men's Conference\, St. Charles\, IL
DESCRIPTION:
URL:https://nem.training/event/st-patrick-catholic-church-mens-conference-st-charles-il/
END:VEVENT
BEGIN:VEVENT
DTSTART;TZID=America/Chicago:20240920T080000
DTEND;TZID=America/Chicago:20240922T170000
DTSTAMP:20260424T202743
CREATED:20231019T231054Z
LAST-MODIFIED:20231019T231054Z
UID:4408-1726819200-1727024400@nem.training
SUMMARY:Catholic Charismatic Renewal Conference\, Orlando\, FL
DESCRIPTION:
URL:https://nem.training/event/catholic-charismatic-renewal-conference-orlando-fl/
END:VEVENT
BEGIN:VEVENT
DTSTART;TZID=America/Chicago:20240927T140000
DTEND;TZID=America/Chicago:20240929T210000
DTSTAMP:20260424T202743
CREATED:20240203T201903Z
LAST-MODIFIED:20240204T223745Z
UID:4426-1727445600-1727643600@nem.training
SUMMARY:Life in the Spirit Seminar\, St. Mark the Evangelist\, Southwest Ranches\, FL
DESCRIPTION:
URL:https://nem.training/event/life-in-the-spirit-seminar-st-mark-the-evangelist-southwest-ranches-fl/
END:VEVENT
END:VCALENDAR