BEGIN:VCALENDAR
VERSION:2.0
PRODID:-//New Evangelization Ministries - ECPv6.15.20//NONSGML v1.0//EN
CALSCALE:GREGORIAN
METHOD:PUBLISH
X-WR-CALNAME:New Evangelization Ministries
X-ORIGINAL-URL:https://nem.training
X-WR-CALDESC:Events for New Evangelization Ministries
REFRESH-INTERVAL;VALUE=DURATION:PT1H
X-Robots-Tag:noindex
X-PUBLISHED-TTL:PT1H
BEGIN:VTIMEZONE
TZID:America/Chicago
BEGIN:DAYLIGHT
TZOFFSETFROM:-0600
TZOFFSETTO:-0500
TZNAME:CDT
DTSTART:20230312T080000
END:DAYLIGHT
BEGIN:STANDARD
TZOFFSETFROM:-0500
TZOFFSETTO:-0600
TZNAME:CST
DTSTART:20231105T070000
END:STANDARD
BEGIN:DAYLIGHT
TZOFFSETFROM:-0600
TZOFFSETTO:-0500
TZNAME:CDT
DTSTART:20240310T080000
END:DAYLIGHT
BEGIN:STANDARD
TZOFFSETFROM:-0500
TZOFFSETTO:-0600
TZNAME:CST
DTSTART:20241103T070000
END:STANDARD
BEGIN:DAYLIGHT
TZOFFSETFROM:-0600
TZOFFSETTO:-0500
TZNAME:CDT
DTSTART:20250309T080000
END:DAYLIGHT
BEGIN:STANDARD
TZOFFSETFROM:-0500
TZOFFSETTO:-0600
TZNAME:CST
DTSTART:20251102T070000
END:STANDARD
END:VTIMEZONE
BEGIN:VEVENT
DTSTART;TZID=America/Chicago:20240129T080000
DTEND;TZID=America/Chicago:20240202T170000
DTSTAMP:20260425T091709
CREATED:20230429T234506Z
LAST-MODIFIED:20230429T234506Z
UID:4352-1706515200-1706893200@nem.training
SUMMARY:Family Closed Time
DESCRIPTION:
URL:https://nem.training/event/family-closed-time/
END:VEVENT
BEGIN:VEVENT
DTSTART;TZID=America/Chicago:20240203T080000
DTEND;TZID=America/Chicago:20240206T210000
DTSTAMP:20260425T091709
CREATED:20230417T171650Z
LAST-MODIFIED:20230417T171650Z
UID:4340-1706947200-1707253200@nem.training
SUMMARY:St. Joseph Parish Mission\, Fort Atkinson\, WI
DESCRIPTION:
URL:https://nem.training/event/st-joseph-parish-mission-fort-atkinson-wi/
END:VEVENT
BEGIN:VEVENT
DTSTART;TZID=America/Chicago:20240209T080000
DTEND;TZID=America/Chicago:20240211T170000
DTSTAMP:20260425T091709
CREATED:20230429T234610Z
LAST-MODIFIED:20230429T234610Z
UID:4354-1707465600-1707670800@nem.training
SUMMARY:Closed
DESCRIPTION:
URL:https://nem.training/event/closed-2/
END:VEVENT
BEGIN:VEVENT
DTSTART;TZID=America/Chicago:20240217T070000
DTEND;TZID=America/Chicago:20240217T213000
DTSTAMP:20260425T091709
CREATED:20221202T160810Z
LAST-MODIFIED:20230606T182713Z
UID:4313-1708153200-1708205400@nem.training
SUMMARY:Prince of Peace Parish Mission\, Plano\, TX
DESCRIPTION:
URL:https://nem.training/event/prince-of-peace-parish-mission-plano-tx/
END:VEVENT
BEGIN:VEVENT
DTSTART;TZID=America/Chicago:20240223T080000
DTEND;TZID=America/Chicago:20240225T170000
DTSTAMP:20260425T091709
CREATED:20230215T142100Z
LAST-MODIFIED:20231107T205101Z
UID:4332-1708675200-1708880400@nem.training
SUMMARY:Closed
DESCRIPTION:
URL:https://nem.training/event/parish-mission-holy-spirit-catholic-church-denver-nc/
END:VEVENT
END:VCALENDAR